BEGIN:VCALENDAR
VERSION:2.0
CALSCALE:GREGORIAN
PRODID:-//NBMB//Terminplan//DE
BEGIN:VTIMEZONE
TZID:Europe/Berlin
X-LIC-LOCATION:Europe/Berlin
BEGIN:DAYLIGHT
TZOFFSETFROM:+0100
TZOFFSETTO:+0200
TZNAME:CEST
DTSTART:19700329T020000
RRULE:FREQ=YEARLY;INTERVAL=1;BYDAY=-1SU;BYMONTH=3
END:DAYLIGHT
BEGIN:STANDARD
TZOFFSETFROM:+0200
TZOFFSETTO:+0100
TZNAME:CEST
DTSTART:19701025T030000
RRULE:FREQ=YEARLY;INTERVAL=1;BYDAY=-1SU;BYMONTH=10
END:STANDARD
END:VTIMEZONE
BEGIN:VEVENT
UID:2225BF4B-C17C-8183-BC0B-21D1EFC7D9AD
DTSTART;TZID=Europe/Berlin:20260501T143000
DTEND;TZID=Europe/Berlin:20260501T143000
SUMMARY:01. Mai	Fr	Gartenkonzert, Schule Schlicht Beginn 14.30
LOCATION:Schule Schlicht, St.-Georg-Str. 11, 92249 Vilseck-Schlicht
END:VEVENT
END:VCALENDAR
