BEGIN:VCALENDAR
VERSION:2.0
CALSCALE:GREGORIAN
PRODID:-//NBMB//Terminplan//DE
BEGIN:VTIMEZONE
TZID:Europe/Berlin
X-LIC-LOCATION:Europe/Berlin
BEGIN:DAYLIGHT
TZOFFSETFROM:+0100
TZOFFSETTO:+0200
TZNAME:CEST
DTSTART:19700329T020000
RRULE:FREQ=YEARLY;INTERVAL=1;BYDAY=-1SU;BYMONTH=3
END:DAYLIGHT
BEGIN:STANDARD
TZOFFSETFROM:+0200
TZOFFSETTO:+0100
TZNAME:CEST
DTSTART:19701025T030000
RRULE:FREQ=YEARLY;INTERVAL=1;BYDAY=-1SU;BYMONTH=10
END:STANDARD
END:VTIMEZONE
BEGIN:VEVENT
UID:AF5D2645-B3A4-BDE4-67B0-AEE6F40D18E6
DTSTART;TZID=Europe/Berlin:20260607T083000
DTEND;TZID=Europe/Berlin:20260607T083000
SUMMARY:40 Jahre Blaskapelle Maxhütte Leonberg e.V.
LOCATION:Pausenhof der Mittelschule Maxhütte-Haidhof
END:VEVENT
END:VCALENDAR
