BEGIN:VCALENDAR
VERSION:2.0
CALSCALE:GREGORIAN
PRODID:-//NBMB//Terminplan//DE
BEGIN:VTIMEZONE
TZID:Europe/Berlin
X-LIC-LOCATION:Europe/Berlin
BEGIN:DAYLIGHT
TZOFFSETFROM:+0100
TZOFFSETTO:+0200
TZNAME:CEST
DTSTART:19700329T020000
RRULE:FREQ=YEARLY;INTERVAL=1;BYDAY=-1SU;BYMONTH=3
END:DAYLIGHT
BEGIN:STANDARD
TZOFFSETFROM:+0200
TZOFFSETTO:+0100
TZNAME:CEST
DTSTART:19701025T030000
RRULE:FREQ=YEARLY;INTERVAL=1;BYDAY=-1SU;BYMONTH=10
END:STANDARD
END:VTIMEZONE
BEGIN:VEVENT
UID:56C024A9-7E92-9A81-B854-E53044F8D06E
DTSTART;TZID=Europe/Berlin:20260927T100000
DTEND;TZID=Europe/Berlin:20260927T100000
SUMMARY:Erntedankfest mit Frühschoppen
LOCATION:Pfarrkirche ST. Martin in Wutschdorf und Pfarrgarten
END:VEVENT
END:VCALENDAR
