BEGIN:VCALENDAR
VERSION:2.0
CALSCALE:GREGORIAN
PRODID:-//NBMB//Terminplan//DE
BEGIN:VTIMEZONE
TZID:Europe/Berlin
X-LIC-LOCATION:Europe/Berlin
BEGIN:DAYLIGHT
TZOFFSETFROM:+0100
TZOFFSETTO:+0200
TZNAME:CEST
DTSTART:19700329T020000
RRULE:FREQ=YEARLY;INTERVAL=1;BYDAY=-1SU;BYMONTH=3
END:DAYLIGHT
BEGIN:STANDARD
TZOFFSETFROM:+0200
TZOFFSETTO:+0100
TZNAME:CEST
DTSTART:19701025T030000
RRULE:FREQ=YEARLY;INTERVAL=1;BYDAY=-1SU;BYMONTH=10
END:STANDARD
END:VTIMEZONE
BEGIN:VEVENT
UID:2A088FBE-45B3-38E2-494B-9026B42EF845
DTSTART;TZID=Europe/Berlin:20260503T170000
DTEND;TZID=Europe/Berlin:20260503T170000
SUMMARY:Frühjahrskonzert der Stadtjugendkapelle Herzogenaurach
LOCATION:Heinrich-Lades-Halle Erlangen
END:VEVENT
END:VCALENDAR
