BEGIN:VCALENDAR
VERSION:2.0
CALSCALE:GREGORIAN
PRODID:-//NBMB//Terminplan//DE
BEGIN:VTIMEZONE
TZID:Europe/Berlin
X-LIC-LOCATION:Europe/Berlin
BEGIN:DAYLIGHT
TZOFFSETFROM:+0100
TZOFFSETTO:+0200
TZNAME:CEST
DTSTART:19700329T020000
RRULE:FREQ=YEARLY;INTERVAL=1;BYDAY=-1SU;BYMONTH=3
END:DAYLIGHT
BEGIN:STANDARD
TZOFFSETFROM:+0200
TZOFFSETTO:+0100
TZNAME:CEST
DTSTART:19701025T030000
RRULE:FREQ=YEARLY;INTERVAL=1;BYDAY=-1SU;BYMONTH=10
END:STANDARD
END:VTIMEZONE
BEGIN:VEVENT
UID:D54EBBC4-4085-5685-55F7-85F35223FF24
DTSTART;TZID=Europe/Berlin:20261219T193000
DTEND;TZID=Europe/Berlin:20261219T193000
SUMMARY:Weihnachtskonzert der Knabenkapelle Auerbach e.V.
LOCATION:Kolpingsaal Auerbach (Dr.-Heinrich-Stromer-Straße 31, 91275 Auerbach i.d.OPf.)
END:VEVENT
END:VCALENDAR
